BEGIN:VCALENDAR
VERSION:2.0
PRODID:-//Harford Volunteer - ECPv6.15.13//NONSGML v1.0//EN
CALSCALE:GREGORIAN
METHOD:PUBLISH
X-WR-CALNAME:Harford Volunteer
X-ORIGINAL-URL:https://harfordvolunteer.com
X-WR-CALDESC:Events for Harford Volunteer
REFRESH-INTERVAL;VALUE=DURATION:PT1H
X-Robots-Tag:noindex
X-PUBLISHED-TTL:PT1H
BEGIN:VTIMEZONE
TZID:America/New_York
BEGIN:DAYLIGHT
TZOFFSETFROM:-0500
TZOFFSETTO:-0400
TZNAME:EDT
DTSTART:20230312T070000
END:DAYLIGHT
BEGIN:STANDARD
TZOFFSETFROM:-0400
TZOFFSETTO:-0500
TZNAME:EST
DTSTART:20231105T060000
END:STANDARD
BEGIN:DAYLIGHT
TZOFFSETFROM:-0500
TZOFFSETTO:-0400
TZNAME:EDT
DTSTART:20240310T070000
END:DAYLIGHT
BEGIN:STANDARD
TZOFFSETFROM:-0400
TZOFFSETTO:-0500
TZNAME:EST
DTSTART:20241103T060000
END:STANDARD
BEGIN:DAYLIGHT
TZOFFSETFROM:-0500
TZOFFSETTO:-0400
TZNAME:EDT
DTSTART:20250309T070000
END:DAYLIGHT
BEGIN:STANDARD
TZOFFSETFROM:-0400
TZOFFSETTO:-0500
TZNAME:EST
DTSTART:20251102T060000
END:STANDARD
BEGIN:DAYLIGHT
TZOFFSETFROM:-0500
TZOFFSETTO:-0400
TZNAME:EDT
DTSTART:20260308T070000
END:DAYLIGHT
BEGIN:STANDARD
TZOFFSETFROM:-0400
TZOFFSETTO:-0500
TZNAME:EST
DTSTART:20261101T060000
END:STANDARD
END:VTIMEZONE
BEGIN:VEVENT
DTSTART;TZID=America/New_York:20250514T160000
DTEND;TZID=America/New_York:20250514T200000
DTSTAMP:20260423T051841
CREATED:20250402T151849Z
LAST-MODIFIED:20250402T151849Z
UID:5660-1747238400-1747252800@harfordvolunteer.com
SUMMARY:Food Truck Night: Jarrettsville VFC
DESCRIPTION:Support the Jarrettsville Volunteer Fire Company located at 3825 Federal Hill Road Jarrettsville\, MD 21084 \nEvery Wednesday night rain or shine starting April 16\, 2025 from 4p to 8p. \n\nFood\nFun\nLive Music\nVendors\n\nFREE admission. No need to RSVP — just show up! Bring the whole family! \nLawn chairs and tables are permitted to bring for use to set-up in the grass. \nTo find out which food trucks will be in attendance each week\, please visit the Jarrettsville Volunteer Fire Company Facebook page!
URL:https://harfordvolunteer.com/event/food-truck-night-jarrettsville-vfc-2/2025-05-14/
LOCATION:Jarrettsville VFC\, 3825 Federal Hill Road\, Jarrettsville\, 21084
CATEGORIES:Food Truck Events
END:VEVENT
BEGIN:VEVENT
DTSTART;TZID=America/New_York:20250507T160000
DTEND;TZID=America/New_York:20250507T200000
DTSTAMP:20260423T051841
CREATED:20250402T151849Z
LAST-MODIFIED:20250402T151849Z
UID:5659-1746633600-1746648000@harfordvolunteer.com
SUMMARY:Food Truck Night: Jarrettsville VFC
DESCRIPTION:Support the Jarrettsville Volunteer Fire Company located at 3825 Federal Hill Road Jarrettsville\, MD 21084 \nEvery Wednesday night rain or shine starting April 16\, 2025 from 4p to 8p. \n\nFood\nFun\nLive Music\nVendors\n\nFREE admission. No need to RSVP — just show up! Bring the whole family! \nLawn chairs and tables are permitted to bring for use to set-up in the grass. \nTo find out which food trucks will be in attendance each week\, please visit the Jarrettsville Volunteer Fire Company Facebook page!
URL:https://harfordvolunteer.com/event/food-truck-night-jarrettsville-vfc-2/2025-05-07/
LOCATION:Jarrettsville VFC\, 3825 Federal Hill Road\, Jarrettsville\, 21084
CATEGORIES:Food Truck Events
END:VEVENT
BEGIN:VEVENT
DTSTART;TZID=America/New_York:20250430T160000
DTEND;TZID=America/New_York:20250430T200000
DTSTAMP:20260423T051841
CREATED:20250402T151849Z
LAST-MODIFIED:20250402T151849Z
UID:5658-1746028800-1746043200@harfordvolunteer.com
SUMMARY:Food Truck Night: Jarrettsville VFC
DESCRIPTION:Support the Jarrettsville Volunteer Fire Company located at 3825 Federal Hill Road Jarrettsville\, MD 21084 \nEvery Wednesday night rain or shine starting April 16\, 2025 from 4p to 8p. \n\nFood\nFun\nLive Music\nVendors\n\nFREE admission. No need to RSVP — just show up! Bring the whole family! \nLawn chairs and tables are permitted to bring for use to set-up in the grass. \nTo find out which food trucks will be in attendance each week\, please visit the Jarrettsville Volunteer Fire Company Facebook page!
URL:https://harfordvolunteer.com/event/food-truck-night-jarrettsville-vfc-2/2025-04-30/
LOCATION:Jarrettsville VFC\, 3825 Federal Hill Road\, Jarrettsville\, 21084
CATEGORIES:Food Truck Events
END:VEVENT
BEGIN:VEVENT
DTSTART;TZID=America/New_York:20250426T080000
DTEND;TZID=America/New_York:20250426T110000
DTSTAMP:20260423T051841
CREATED:20250319T180136Z
LAST-MODIFIED:20250319T180136Z
UID:5635-1745654400-1745665200@harfordvolunteer.com
SUMMARY:Flea Market/ Yard Sale
DESCRIPTION:Come out and support the Abingdon Fire Company and their annual Flea Market/Yard Sale/Craft event! \nWhen: Saturday\, April 26th from 8a-1p \nAdmission: FREE \n*Vendors Needed*\nSet up starts at 6:30 am\n\nFor more Information\, click the HERE fill out the form and someone will be in contact with you.
URL:https://harfordvolunteer.com/event/flea-market-yard-sale/
LOCATION:Abingdon VFC\, 3306 Abingdon Road\, Abingdon\, MD\, 21009\, United States
CATEGORIES:Craft Fair
END:VEVENT
BEGIN:VEVENT
DTSTART;TZID=America/New_York:20250423T160000
DTEND;TZID=America/New_York:20250423T200000
DTSTAMP:20260423T051841
CREATED:20250402T151849Z
LAST-MODIFIED:20250402T151849Z
UID:5657-1745424000-1745438400@harfordvolunteer.com
SUMMARY:Food Truck Night: Jarrettsville VFC
DESCRIPTION:Support the Jarrettsville Volunteer Fire Company located at 3825 Federal Hill Road Jarrettsville\, MD 21084 \nEvery Wednesday night rain or shine starting April 16\, 2025 from 4p to 8p. \n\nFood\nFun\nLive Music\nVendors\n\nFREE admission. No need to RSVP — just show up! Bring the whole family! \nLawn chairs and tables are permitted to bring for use to set-up in the grass. \nTo find out which food trucks will be in attendance each week\, please visit the Jarrettsville Volunteer Fire Company Facebook page!
URL:https://harfordvolunteer.com/event/food-truck-night-jarrettsville-vfc-2/2025-04-23/
LOCATION:Jarrettsville VFC\, 3825 Federal Hill Road\, Jarrettsville\, 21084
CATEGORIES:Food Truck Events
END:VEVENT
BEGIN:VEVENT
DTSTART;TZID=America/New_York:20250416T160000
DTEND;TZID=America/New_York:20250416T200000
DTSTAMP:20260423T051841
CREATED:20250402T151849Z
LAST-MODIFIED:20250402T151849Z
UID:5654-1744819200-1744833600@harfordvolunteer.com
SUMMARY:Food Truck Night: Jarrettsville VFC
DESCRIPTION:Support the Jarrettsville Volunteer Fire Company located at 3825 Federal Hill Road Jarrettsville\, MD 21084 \nEvery Wednesday night rain or shine starting April 16\, 2025 from 4p to 8p. \n\nFood\nFun\nLive Music\nVendors\n\nFREE admission. No need to RSVP — just show up! Bring the whole family! \nLawn chairs and tables are permitted to bring for use to set-up in the grass. \nTo find out which food trucks will be in attendance each week\, please visit the Jarrettsville Volunteer Fire Company Facebook page!
URL:https://harfordvolunteer.com/event/food-truck-night-jarrettsville-vfc-2/2025-04-16/
LOCATION:Jarrettsville VFC\, 3825 Federal Hill Road\, Jarrettsville\, 21084
CATEGORIES:Food Truck Events
END:VEVENT
BEGIN:VEVENT
DTSTART;TZID=America/New_York:20250413T080000
DTEND;TZID=America/New_York:20250413T110000
DTSTAMP:20260423T051841
CREATED:20250319T181150Z
LAST-MODIFIED:20250319T181150Z
UID:5645-1744531200-1744542000@harfordvolunteer.com
SUMMARY:Easter Bunny Breakfast - NVFC
DESCRIPTION:Bring the family to the Norrisville Volunteer Fire Company and have breakfast with the Easter Bunny! \nWhen: Sunday\, April 13th from 8-11a \nAdmission: Adults $12/ kids ages 5-10yrs $6/ kids 4 and under are FREE \nPancakes\, potatoes\, donuts\, fruit\, sausage\, bacon\, biscuits & gravy and more.This is a great family event. Pay at the door only!!\n\nPlease be aware of scammers. Tickets for all of our events are pay at the door only!! Do not respond to any individual person. All responses will be from Norrisville Volunteer Fire Company ONLY.
URL:https://harfordvolunteer.com/event/easter-bunny-breakfast-nvfc/
LOCATION:Norrisville VFC\, 2134 Harkins Road\, Pylesville\, 21132
END:VEVENT
BEGIN:VEVENT
DTSTART;TZID=America/New_York:20250412T130000
DTEND;TZID=America/New_York:20250412T130000
DTSTAMP:20260423T051841
CREATED:20250319T180628Z
LAST-MODIFIED:20250319T180628Z
UID:5638-1744462800-1744462800@harfordvolunteer.com
SUMMARY:Sportsman's BINGO - JVFC
DESCRIPTION:Come out to the Jarrettsville Volunteer Fire Company and play Sportsman’s BINGO! \nWhen: Saturday\, April 12th (doors Open: 1pm/ Food: 2-4p/ Bingo starts: 4p) \nAdmission: $60 per person includes meal/bingo \nPrizes INCLUDE: \n10 Long firearm games10 Cash Games2 Jackpot Games10+ Pistol Pull Tab Games50/50’sPrize WheelAnd More! \nContact Larry – BINGO@jvfc.org OR 410-937-6877 for tickets TODAY!
URL:https://harfordvolunteer.com/event/sportsmans-bingo-jvfc/
LOCATION:Jarrettsville VFC\, 3825 Federal Hill Road\, Jarrettsville\, 21084
END:VEVENT
BEGIN:VEVENT
DTSTART;TZID=America/New_York:20250404T174500
DTEND;TZID=America/New_York:20250404T174500
DTSTAMP:20260423T051841
CREATED:20250319T181410Z
LAST-MODIFIED:20250319T181410Z
UID:5648-1743788700-1743788700@harfordvolunteer.com
SUMMARY:Bingo - Norrisville VFC
DESCRIPTION:Come out and play BINGO at the Norrisville Volunteer Fire Company! \nWhen: Friday\, April 4th (Doors Open – 5:45p/ Games start – 6:30p) \nAdmission: $20 for 20 games  (Cash ONLY at the door) \nCome join us for a great night of bingo. $20 for 20 games. Cash only at the door.SMALL BILLS APPRECIATED.  We will have food for sale as well.\n\n\nPlease be aware of scammers. Tickets for all of our events are pay at the door only!! Do not respond to any individual person. All responses will be from Norrisville Volunteer Fire Company ONLY.
URL:https://harfordvolunteer.com/event/bingo-norrisville-vfc-5/
LOCATION:Norrisville VFC\, 2134 Harkins Road\, Pylesville\, 21132
END:VEVENT
BEGIN:VEVENT
DTSTART;TZID=America/New_York:20250322T080000
DTEND;TZID=America/New_York:20250322T110000
DTSTAMP:20260423T051841
CREATED:20250319T180911Z
LAST-MODIFIED:20250319T180911Z
UID:5642-1742630400-1742641200@harfordvolunteer.com
SUMMARY:Indoor Yard Sale - Norrisville VFC
DESCRIPTION:Come out and shop at Norrisville Volunteer Fire Company’s Indoor Yard Sale! \nWhen: Saturday\, March 22nd from 8-11am \nAdmission: FREE \nWe will have over 30 different people set up to sell their goods.NVFC will be selling breakfast and lunch so stop buying and get a few new treasures.Rain or shine. All spaces are sold out!!
URL:https://harfordvolunteer.com/event/indoor-yard-sale-norrisville-vfc-2/
LOCATION:Norrisville VFC\, 2134 Harkins Road\, Pylesville\, 21132
END:VEVENT
BEGIN:VEVENT
DTSTART;TZID=America/New_York:20241215T080000
DTEND;TZID=America/New_York:20241215T110000
DTSTAMP:20260423T051841
CREATED:20240911T143737Z
LAST-MODIFIED:20240911T144609Z
UID:5571-1734249600-1734260400@harfordvolunteer.com
SUMMARY:Santa Breakfast - Norrisville VFC
DESCRIPTION:Come out and visit with Santa at the Norrisville Volunteer Fire Company’s annual Santa breakfast! \nWhen: Sunday\, December 15th from 8-11a \nAdmission: Adults – $10\, Kids – 5-10 – $5\, UNDER 5 free. Pay at the door only!! NO Pre-sales \nThis is a great family event! All you can eat breakfast with Santa. Omelets to order\, scrambled eggs\, pancakes\, potatoes\, donuts\, fruit\, sausage\, biscuits & gravy and more. \n  \n** We will be collecting new hats\, scarves and gloves for the less fortunate. Please bring them to the Breakfast***
URL:https://harfordvolunteer.com/event/santa-breakfast-norrisville-vfc-3/
LOCATION:Norrisville VFC\, 2134 Harkins Road\, Pylesville\, 21132
END:VEVENT
BEGIN:VEVENT
DTSTART;TZID=America/New_York:20241215T073000
DTEND;TZID=America/New_York:20241215T100000
DTSTAMP:20260423T051841
CREATED:20241022T165729Z
LAST-MODIFIED:20241022T165729Z
UID:5614-1734247800-1734256800@harfordvolunteer.com
SUMMARY:Breakfast with Santa: Abingdon Fire Company
DESCRIPTION:Come out and support the Abingdon Fire Company during their Breakfast with Santa event! \nWhen: Sunday\, December 15th from 730a-10a \nAdmission Includes: \nBuffett Breakfast includes items such as scrambled eggs\, sausage\, French toast sticks\, pancakes\, biscuits\, gravy\, fruit\, coffee and more!!!!! Before\, during\, or after your time eating\, make your way up to our engine bay to snap a few pictures with Santa!
URL:https://harfordvolunteer.com/event/breakfast-with-santa-abingdon-fire-company/
LOCATION:Abingdon VFC\, 3306 Abingdon Road\, Abingdon\, MD\, 21009\, United States
END:VEVENT
BEGIN:VEVENT
DTSTART;TZID=America/New_York:20241214T170000
DTEND;TZID=America/New_York:20241214T190000
DTSTAMP:20260423T051841
CREATED:20241022T170739Z
LAST-MODIFIED:20241022T170739Z
UID:5620-1734195600-1734202800@harfordvolunteer.com
SUMMARY:Pizza with Santa: Darlington VFC
DESCRIPTION:Come out with the family to the Darlington Volunteer Fire Company for their annual Pizza with Santa night! \nWhen: Saturday\, December 14 from 5-7p \nAdmission: $8 per person (Each individual attending will need a ticket for admissionTickets must be purchased in advance by clicking the linkhttps://square.link/u/JKZjo86w) NO tickets will be sold at the door. \nEach ticket includes:Slice of pizza\, small fries and drinkFire Engine  RidesHot Chocolate BarLetters to Santa  StationChristmas Photo StationCookie  Decorating Station\n\nIt will be an evening of fun activities and a visit with Santa & Mrs. Claus!\n\nAny questions please email PizzawithSanta@Darlingtonvfc.org or text/call 410.808.0693\n 
URL:https://harfordvolunteer.com/event/pizza-with-santa-darlington-vfc-2/
LOCATION:Darlington VFC\, 2600 Castleton Road\, Darlington\, 21034
END:VEVENT
BEGIN:VEVENT
DTSTART;TZID=America/New_York:20241214T090000
DTEND;TZID=America/New_York:20241214T140000
DTSTAMP:20260423T051841
CREATED:20241022T170152Z
LAST-MODIFIED:20241022T170152Z
UID:5617-1734166800-1734184800@harfordvolunteer.com
SUMMARY:Winter Craft Show: Jarrettsville VFC Auxiliary
DESCRIPTION:Come out and do some holiday shopping with the Jarrettsville Volunteer Fire Company Craft Show! \nWhen: Saturday\, December 14 from 9a-2p \nAdmission: FREE \nThis event is rain or shine.  Light refreshments and food will be for sale on site.\nFor questions email craftshow@jvfc.org
URL:https://harfordvolunteer.com/event/winter-craft-show-jarrettsville-vfc-auxiliary/
LOCATION:Jarrettsville VFC\, 3825 Federal Hill Road\, Jarrettsville\, 21084
END:VEVENT
BEGIN:VEVENT
DTSTART;TZID=America/New_York:20241208T120000
DTEND;TZID=America/New_York:20241208T150000
DTSTAMP:20260423T051841
CREATED:20241106T183509Z
LAST-MODIFIED:20241106T183509Z
UID:5625-1733659200-1733670000@harfordvolunteer.com
SUMMARY:Meet & Greet: Santa and Mrs. Claus- Bel Air VFC
DESCRIPTION:Come out to the Bel Air Volunteer Fire Company to meet Santa & Mrs. Claus. \n  \nWhen: Sunday\, December 8th from 12-3p \nAdmission: FREE for all ages! \n 
URL:https://harfordvolunteer.com/event/meet-greet-santa-and-mrs-claus-bel-air-vfc/
LOCATION:Bel Air Volunteer Fire Company\, 109 S Hickory Ave\, Bel Air\, MD\, 21014\, United States
END:VEVENT
BEGIN:VEVENT
DTSTART;TZID=America/New_York:20241207T090000
DTEND;TZID=America/New_York:20241207T140000
DTSTAMP:20260423T051841
CREATED:20240926T141942Z
LAST-MODIFIED:20240926T141942Z
UID:5586-1733562000-1733580000@harfordvolunteer.com
SUMMARY:Christmas Craft Fair- Aberdeen FC
DESCRIPTION:Come out and do your holiday shopping with the Aberdeen Fire Department. \nWhen: Saturday\, December 7th from 9a-2p \nAdmission: FREE \nCome out and enjoy all our vendors! This annual fair makes Christmas shopping fun and easy.\nBuy Your Lunch There! Menu includes pit beef\, ham & turkey\, funnel cakes\, hot dogs & more!\nLocation
URL:https://harfordvolunteer.com/event/christmas-craft-fair-aberdeen-fc/
LOCATION:Aberdeen Fire Company\, 21 N Rogers Street\, Aberdeen\, MD\, 21001\, United States
END:VEVENT
BEGIN:VEVENT
DTSTART;TZID=America/New_York:20241207T080000
DTEND;TZID=America/New_York:20241207T110000
DTSTAMP:20260423T051841
CREATED:20241022T164835Z
LAST-MODIFIED:20241022T164835Z
UID:5607-1733558400-1733569200@harfordvolunteer.com
SUMMARY:Breakfast with Santa: Level VFC
DESCRIPTION:Come out and support the Level Volunteer Fire Company during their annual Santa Breakfast! \nWhen: Saturday\, December 7 from 8-11a \nTickets: $10/ per person (Tickets must be purchased in advance HERE) \nBring the family out for delicious food\, fire engine rides\, photo booth\, santa’s workshop (10 & under) and visit with Santa!
URL:https://harfordvolunteer.com/event/breakfast-with-santa-level-vfc-2/
LOCATION:Level VFC\, 3633 Level Village Road\, Havre de Grace\, MD\, 21078\, United States
END:VEVENT
BEGIN:VEVENT
DTSTART;TZID=America/New_York:20241206T180000
DTEND;TZID=America/New_York:20241206T200000
DTSTAMP:20260423T051841
CREATED:20241122T145832Z
LAST-MODIFIED:20241122T145832Z
UID:5628-1733508000-1733515200@harfordvolunteer.com
SUMMARY:Ice Cream w/Santa - Jarrettsville VFC
DESCRIPTION:Come out to the Jarrettsville Creamery & Deli as Santa will be making his annual stop with the help from the Jarrettsville Volunteer Fire Company! \nWhen: Friday\, December 6th from 6-8p \nLocation: Jarrettsville Creamery & Deli \nIt’s the holiday season and that means that Santa Claus is coming to town!\n\nSanta is giving the reindeer a break and he will be arriving on a fire truck from JVFC! So\, make sure to be here at 6 PM to see Santa as he arrives! Have some ice cream with Santa and tell him what you want for Christmas this year\, you may even get a gift from him that night!!
URL:https://harfordvolunteer.com/event/ice-cream-w-santa-jarrettsville-vfc-2/
LOCATION:Jarrettsville Creamery & Deli\, 1747 Jarrettsville Rd\, Jarrettsville\, MD\, 21084\, United States
END:VEVENT
BEGIN:VEVENT
DTSTART;TZID=America/New_York:20241123T080000
DTEND;TZID=America/New_York:20241123T133000
DTSTAMP:20260423T051841
CREATED:20241022T164241Z
LAST-MODIFIED:20241022T164241Z
UID:5604-1732348800-1732368600@harfordvolunteer.com
SUMMARY:Blood Drive: Norrisville VFC
DESCRIPTION:When: Saturday\, November 23 from 8a-130p \nPlease give the gift of life at our next blood drive. Sign up at www.redcrossblood.org
URL:https://harfordvolunteer.com/event/blood-drive-norrisville-vfc-7/
LOCATION:Norrisville VFC\, 2134 Harkins Road\, Pylesville\, 21132
END:VEVENT
BEGIN:VEVENT
DTSTART;TZID=America/New_York:20241116T090000
DTEND;TZID=America/New_York:20241116T130000
DTSTAMP:20260423T051841
CREATED:20240911T143537Z
LAST-MODIFIED:20240911T143537Z
UID:5569-1731747600-1731762000@harfordvolunteer.com
SUMMARY:Annual Holiday Craft Show - Norrisville VFC
DESCRIPTION:Mark your calendars to come out and shop at the Norrisville Volunteer Fire Company’s annual Craft Show! \nWhen: Saturday\, November 16th from 9a-1p \nAdmission: FREE \nThere will be over 70 vendors. There is something for everyone- you will not be disappointed. NVFC will have food for sale as well. Mark your calendar today!! \nNOTE: Vendors Do not send money to anyone except Samantha at NVFC. Watch out for scammers.  Send all application requests to Samantha at 13323@hcvfa.org ONLY
URL:https://harfordvolunteer.com/event/annual-holiday-craft-show-norrisville-vfc/
LOCATION:Norrisville VFC\, 2134 Harkins Road\, Pylesville\, 21132
END:VEVENT
BEGIN:VEVENT
DTSTART;TZID=America/New_York:20241110T123000
DTEND;TZID=America/New_York:20241110T123000
DTSTAMP:20260423T051841
CREATED:20240905T162947Z
LAST-MODIFIED:20240905T162947Z
UID:5545-1731241800-1731241800@harfordvolunteer.com
SUMMARY:Quilt Bingo - Abingdon VFC
DESCRIPTION:Come out for Quilt Bingo at the Abingdon Volunteer Fire Company! \nWhen: Sunday\, November 10th (Doors Open: 1230/ Games Start: 2p) \nAdmission:$25 per person / Tickets must be purchased online HERE \nAll prizes were hand made by the AFC Quilting Group that meets each Tuesday. \n 
URL:https://harfordvolunteer.com/event/quilt-bingo-abingdon-vfc-3/
LOCATION:Abingdon VFC\, 3306 Abingdon Road\, Abingdon\, MD\, 21009\, United States
END:VEVENT
BEGIN:VEVENT
DTSTART;TZID=America/New_York:20241109T180000
DTEND;TZID=America/New_York:20241109T210000
DTSTAMP:20260423T051841
CREATED:20240911T142840Z
LAST-MODIFIED:20240911T142840Z
UID:5564-1731175200-1731186000@harfordvolunteer.com
SUMMARY:Country Classics Live Show - Darlington VFC
DESCRIPTION:Come out and enjoy Live Country music at the Darlington Volunteer Fire Company! \nWhen: Saturday\, November 9th from 6-10p (Doors Open At 5pm) \nAdmission: $20 per person (Tickets must be purchased in advance HERE \nCome enjoy an evening of Country Classics featuring Marie Levin as REBA\, Sean Jamison as GARTH BROOKS and JENNA LYNN. There will be lots of Raffles along with Food and Alcohol available for purchase.
URL:https://harfordvolunteer.com/event/country-classics-live-show-darlington-vfc/
LOCATION:Darlington VFC\, 2600 Castleton Road\, Darlington\, 21034
END:VEVENT
BEGIN:VEVENT
DTSTART;TZID=America/New_York:20241109T130000
DTEND;TZID=America/New_York:20241109T130000
DTSTAMP:20260423T051841
CREATED:20240813T182441Z
LAST-MODIFIED:20240813T182441Z
UID:5528-1731157200-1731157200@harfordvolunteer.com
SUMMARY:Sportsmans Bingo - Jarrettsville VFC
DESCRIPTION:Grab your tickets for the  Jarrettsville Volunteer Fire Company Sportman’s Bingo! \nWhen: Nov 9th starting at 1pm (Doors and games open at 1p/Food Served from 2-4p/ Bingo starts at 4p) \nAdmission: Tickets $55 per person includes meal/bingo (must have ticket to attend) \nTo Purchase Ticket: \Contact Larry – BINGO@jvfc.org OR 410-937-6877 \n  \nAdmission includes: 10 Long gun games\, 10 Cash Games\, 2 Jackpot Games\, 10+ Pistol Pull Tab Games\, 50/50’s\, Prize Wheel And More!
URL:https://harfordvolunteer.com/event/sportsmans-bingo-jarrettsville-vfc-3/
LOCATION:Jarrettsville VFC\, 3825 Federal Hill Road\, Jarrettsville\, 21084
END:VEVENT
BEGIN:VEVENT
DTSTART;TZID=America/New_York:20241109T090000
DTEND;TZID=America/New_York:20241109T140000
DTSTAMP:20260423T051841
CREATED:20240516T170336Z
LAST-MODIFIED:20240516T170336Z
UID:5501-1731142800-1731160800@harfordvolunteer.com
SUMMARY:Ladies Aux Fall Fest: Level VFC
DESCRIPTION:Mark your calendars for the Level VFC Ladies Auxiliary Fall Fest! \nWhen: Saturday\, November 9th from 9a-2p \nAdmission: Free \nJoin us to shop from unique vendors and enjoy lunch from the ladies auxiliary!  Go follow the event page on Facebook HERE for all updates on this event!
URL:https://harfordvolunteer.com/event/ladies-aux-fall-fest-level-vfc/
LOCATION:Level VFC\, 3633 Level Village Road\, Havre de Grace\, MD\, 21078\, United States
END:VEVENT
BEGIN:VEVENT
DTSTART;TZID=America/New_York:20241102T090000
DTEND;TZID=America/New_York:20241102T140000
DTSTAMP:20260423T051841
CREATED:20240911T142505Z
LAST-MODIFIED:20240911T142505Z
UID:5561-1730538000-1730556000@harfordvolunteer.com
SUMMARY:Holiday Bazaar - Darlington Volunteer Fire Company
DESCRIPTION:Come out to the Darlington Volunteer Fire Company and start your holiday shopping! \nWhen: Saturday\, November 2nd from 9a-2p \nAdmission: FREE \nAnnual Holiday Bazaar with lots of Homemade Crafts\, Christmas Gifts\, Baked Goods\, Raffles and MORE!\n\nVENDORS interested in receiving an application canEMAIL DVFCEVENTS@Darlingtonvfc.org or call/text 443.235.9817
URL:https://harfordvolunteer.com/event/holiday-bazaar-darlington-volunteer-fire-company/
LOCATION:Darlington VFC\, 2600 Castleton Road\, Darlington\, 21034
END:VEVENT
BEGIN:VEVENT
DTSTART;TZID=America/New_York:20241027T120000
DTEND;TZID=America/New_York:20241027T170000
DTSTAMP:20260423T051841
CREATED:20241022T165437Z
LAST-MODIFIED:20241022T165437Z
UID:5610-1730030400-1730048400@harfordvolunteer.com
SUMMARY:Ravens Watch Party: Abingdon Fire Company
DESCRIPTION:When: Sunday\, October 27th from 12-5p \nEntry Fee: $10 per person \nWhere: Friendship Park \nCome Join AFC as we cheer on the Baltimore Ravens! Food Trucks will be available\, Alcohol\, and Raffles!!!! 100% of entry fees will benefit the Abingdon Fire Company. Children and Pets are welcome join!
URL:https://harfordvolunteer.com/event/ravens-watch-party-abingdon-fire-company/
LOCATION:Friendship Park\, 3462 Emmorton Road\, Abingdon\, 21009\, United States
END:VEVENT
BEGIN:VEVENT
DTSTART;TZID=America/New_York:20241027T120000
DTEND;TZID=America/New_York:20241027T150000
DTSTAMP:20260423T051841
CREATED:20240911T142207Z
LAST-MODIFIED:20240911T142207Z
UID:5559-1730030400-1730041200@harfordvolunteer.com
SUMMARY:Open House - Darlington VFC
DESCRIPTION:Come out to the Darlington Volunteer Fire Company annual Open House! \nWhen: Sunday\, October 27th from 12-3p \nAdmission: FREE! \nBring the family and meet your FIRST RESPONDERS!! We will have vendors\, fire truck rides\, games\, live demonstrations\, flu shots and a guest speaker sharing his experience surviving a fire. \n 
URL:https://harfordvolunteer.com/event/open-house-darlington-vfc-2/
LOCATION:Darlington VFC\, 2600 Castleton Road\, Darlington\, 21034
END:VEVENT
BEGIN:VEVENT
DTSTART;TZID=America/New_York:20241026T160000
DTEND;TZID=America/New_York:20241026T180000
DTSTAMP:20260423T051841
CREATED:20240905T161829Z
LAST-MODIFIED:20240905T161829Z
UID:5536-1729958400-1729965600@harfordvolunteer.com
SUMMARY:Trunk or Treat - Level VFC
DESCRIPTION:Bring the whole family in costume to the Level Volunteer Fire Company Trunk or Treat! \nWhen: Saturday\, October 26th from 4-6p \nAdmission: FREE \nCome out to enjoy dozens of decorated vehicles. Food and drinks available $$. Email 12185@hcvfa.org to register your vehicle and hand out candy.
URL:https://harfordvolunteer.com/event/trunk-or-treat-level-vfc-3/
LOCATION:Level VFC\, 3633 Level Village Road\, Havre de Grace\, MD\, 21078\, United States
END:VEVENT
BEGIN:VEVENT
DTSTART;TZID=America/New_York:20241026T100000
DTEND;TZID=America/New_York:20241026T150000
DTSTAMP:20260423T051841
CREATED:20240926T141220Z
LAST-MODIFIED:20240926T141220Z
UID:5580-1729936800-1729954800@harfordvolunteer.com
SUMMARY:Open House- Susquehanna Hose Company
DESCRIPTION:Come out to the Susquehanna Hose Company annual Open House! \nWhen: Saturday\, October 26th from 10a-3p \nAdmission: FREE \nBring the family for a day of fun including fire engine rides\, demos\, fire safety house\, fire prevention\, free food\, meet Marshall and much more! \n 
URL:https://harfordvolunteer.com/event/open-house-susquehanna-hose-company-2/
LOCATION:Susquehanna Hose Company\, 1542 Chapel Rd\, Havre de Grace\, United States
END:VEVENT
BEGIN:VEVENT
DTSTART;TZID=America/New_York:20241020T080000
DTEND;TZID=America/New_York:20241020T110000
DTSTAMP:20260423T051841
CREATED:20240723T150317Z
LAST-MODIFIED:20240723T150317Z
UID:5520-1729411200-1729422000@harfordvolunteer.com
SUMMARY:Monster Breakfast: Norrisville VFC
DESCRIPTION:Come out to the Norrisville Volunteer Fire Company for a Monster Breakfast! \nWhen: Sunday\, October 20th from 8-11a \nTickets: Adults-$10\, Kids 5-10 – $5\, Kids UNDER 5 – free. (Pay at the door) \nAll you can eat breakfast.Pancakes\, fruit cup\, scrambled eggs\, sausage and bacon. \nCome in FULL costume and breakfast is free. For those who choose not to dress up. \n**Please note: There are NO pre-sales. All pay at the door – watch for scammers**
URL:https://harfordvolunteer.com/event/monster-breakfast-norrisville-vfc/
LOCATION:Norrisville VFC\, 2134 Harkins Road\, Pylesville\, 21132
END:VEVENT
END:VCALENDAR